BEGIN:VCALENDAR
VERSION:2.0
PRODID:-//HOT Billabong - ECPv6.15.20//NONSGML v1.0//EN
CALSCALE:GREGORIAN
METHOD:PUBLISH
X-WR-CALNAME:HOT Billabong
X-ORIGINAL-URL:https://hot-billabong.de
X-WR-CALDESC:Veranstaltungen für HOT Billabong
REFRESH-INTERVAL;VALUE=DURATION:PT1H
X-Robots-Tag:noindex
X-PUBLISHED-TTL:PT1H
BEGIN:VTIMEZONE
TZID:Europe/Berlin
BEGIN:DAYLIGHT
TZOFFSETFROM:+0100
TZOFFSETTO:+0200
TZNAME:CEST
DTSTART:20250330T010000
END:DAYLIGHT
BEGIN:STANDARD
TZOFFSETFROM:+0200
TZOFFSETTO:+0100
TZNAME:CET
DTSTART:20251026T010000
END:STANDARD
BEGIN:DAYLIGHT
TZOFFSETFROM:+0100
TZOFFSETTO:+0200
TZNAME:CEST
DTSTART:20260329T010000
END:DAYLIGHT
BEGIN:STANDARD
TZOFFSETFROM:+0200
TZOFFSETTO:+0100
TZNAME:CET
DTSTART:20261025T010000
END:STANDARD
BEGIN:DAYLIGHT
TZOFFSETFROM:+0100
TZOFFSETTO:+0200
TZNAME:CEST
DTSTART:20270328T010000
END:DAYLIGHT
BEGIN:STANDARD
TZOFFSETFROM:+0200
TZOFFSETTO:+0100
TZNAME:CET
DTSTART:20271031T010000
END:STANDARD
END:VTIMEZONE
BEGIN:VEVENT
DTSTART;TZID=Europe/Berlin:20260424T150000
DTEND;TZID=Europe/Berlin:20260424T180000
DTSTAMP:20260424T232225
CREATED:20260111T182756Z
LAST-MODIFIED:20260111T182756Z
UID:10004674-1777042800-1777053600@hot-billabong.de
SUMMARY:Kunstattacke
DESCRIPTION:Du hast Spaß am Basteln\, Bauen oder Werken? Dann ist die Kunstattacke genau das Richtige für dich. Hier gibt es jede Woche ein neues\, cooles Bastelangebot für dich. Komm vorbei und mach mit!\nJeden Freitag von 15.00 – 18.00 Uhr für Kinder von 6 – 12 Jahren.
URL:https://hot-billabong.de/event/kunstattacke/2026-04-24/
LOCATION:HOT Billabong\, Brückenstraße 27\, Bielefeld\, NRW\, 33607\, Deutschland
CATEGORIES:Kindertag,Kunstattacke
ATTACH;FMTTYPE=image/png:https://hot-billabong.de/wp-content/uploads/kunstattacke2.png
ORGANIZER;CN="HOT Billabong":MAILTO:billabong@kirche-bielefeld.de
END:VEVENT
BEGIN:VEVENT
DTSTART;TZID=Europe/Berlin:20260424T150000
DTEND;TZID=Europe/Berlin:20260424T183000
DTSTAMP:20260424T232225
CREATED:20260111T171013Z
LAST-MODIFIED:20260111T182931Z
UID:10004292-1777042800-1777055400@hot-billabong.de
SUMMARY:Kindertag
DESCRIPTION:Bist Du zwischen 6 und 12 Jahre alt? Spielst du gerne Fußball\, Tischtennis\, Billard oder Kicker? Hast du Spaß am Basteln\, Malen\, Werken\, Kochen und vielem mehr? Dann komm doch mal vorbei! \nImmer montags und freitags von 15.00 – 18.30 Uhr.
URL:https://hot-billabong.de/event/kindertag/2026-04-24/
LOCATION:HOT Billabong\, Brückenstraße 27\, Bielefeld\, NRW\, 33607\, Deutschland
CATEGORIES:Kindertag
ATTACH;FMTTYPE=image/jpeg:https://hot-billabong.de/wp-content/uploads/IMG_3036.jpg
ORGANIZER;CN="HOT Billabong":MAILTO:billabong@kirche-bielefeld.de
END:VEVENT
BEGIN:VEVENT
DTSTART;TZID=Europe/Berlin:20260424T150000
DTEND;TZID=Europe/Berlin:20260424T183000
DTSTAMP:20260424T232225
CREATED:20260302T124815Z
LAST-MODIFIED:20260302T124815Z
UID:10004721-1777042800-1777055400@hot-billabong.de
SUMMARY:Street-Soccer Turnier
DESCRIPTION:Am 24. April 2026 sind wir Gastgeber der Vorrunde der Bielefelder Street-Soccer-Tour\, in Kooperation mit dem Fanprojekt Bielefeld.\nEingeladen sind Mädchen- und Jungenteams der Jahrgänge 2012–2014 sowie 2014–2017.\nDie Siegerteams qualifizieren sich für das Finalturnier im September vor der Schüco Arena. Das Endspiel wird im Stadion ausgetragen – direkt vor einem Heimspiel von Arminia Bielefeld. Alle Vorrundensieger:innen erhalten dafür eine Eintrittskarte. \nWichtig:\nTeilnahme nur mit vorheriger Anmeldung. Anmeldeschluss: 22. April 2026.\nZeitfenster: 15:00–18:30 Uhr.\nTeams müssen vollständig und pünktlich erscheinen.\nMindestens zwei Teammitglieder müssen regelmäßige Besucherinnen des HOT Billabong sein. \nKurz gesagt: Anmelden\, antreten\, fair spielen – und vielleicht im Stadion landen. ⚽
URL:https://hot-billabong.de/event/street-soccer-turnier/
LOCATION:HOT Billabong\, Brückenstraße 27\, Bielefeld\, NRW\, 33607\, Deutschland
CATEGORIES:Kindertag
ATTACH;FMTTYPE=image/jpeg:https://hot-billabong.de/wp-content/uploads/Bildschirmfoto-2026-03-02-um-12.19.53.jpeg
ORGANIZER;CN="HOT Billabong":MAILTO:billabong@kirche-bielefeld.de
END:VEVENT
END:VCALENDAR