BEGIN:VCALENDAR
VERSION:2.0
PRODID:-//HOT Billabong - ECPv6.15.20//NONSGML v1.0//EN
CALSCALE:GREGORIAN
METHOD:PUBLISH
X-WR-CALNAME:HOT Billabong
X-ORIGINAL-URL:https://hot-billabong.de
X-WR-CALDESC:Veranstaltungen für HOT Billabong
REFRESH-INTERVAL;VALUE=DURATION:PT1H
X-Robots-Tag:noindex
X-PUBLISHED-TTL:PT1H
BEGIN:VTIMEZONE
TZID:Europe/Berlin
BEGIN:DAYLIGHT
TZOFFSETFROM:+0100
TZOFFSETTO:+0200
TZNAME:CEST
DTSTART:20250330T010000
END:DAYLIGHT
BEGIN:STANDARD
TZOFFSETFROM:+0200
TZOFFSETTO:+0100
TZNAME:CET
DTSTART:20251026T010000
END:STANDARD
BEGIN:DAYLIGHT
TZOFFSETFROM:+0100
TZOFFSETTO:+0200
TZNAME:CEST
DTSTART:20260329T010000
END:DAYLIGHT
BEGIN:STANDARD
TZOFFSETFROM:+0200
TZOFFSETTO:+0100
TZNAME:CET
DTSTART:20261025T010000
END:STANDARD
BEGIN:DAYLIGHT
TZOFFSETFROM:+0100
TZOFFSETTO:+0200
TZNAME:CEST
DTSTART:20270328T010000
END:DAYLIGHT
BEGIN:STANDARD
TZOFFSETFROM:+0200
TZOFFSETTO:+0100
TZNAME:CET
DTSTART:20271031T010000
END:STANDARD
END:VTIMEZONE
BEGIN:VEVENT
DTSTART;TZID=Europe/Berlin:20260324T160000
DTEND;TZID=Europe/Berlin:20260324T200000
DTSTAMP:20260424T222759
CREATED:20260111T174729Z
LAST-MODIFIED:20260111T183426Z
UID:10004548-1774368000-1774382400@hot-billabong.de
SUMMARY:Musikwerkstatt
DESCRIPTION:In der Musikwerkstatt hat du die Möglichkeit verschiedene Musikinstrumente\, wie Schlagzeug\, Gitarre\, Bass oder Klavier auszuprobieren\, zu üben und zu erlernen.\nIm angrenzenden Tonstudio kannst du mit professioneller Anleitung Songs aufnehmen\, bearbeiten und Beats produzieren. Zudem geben wir dir Hilfestellung bei der Erstellung von eigenen Musikvideos\, sowie Veröffentlichungen auf Spotify.\nWenn du Lust hast dein Können auf der Bühne zu präsentieren\, kannst du bei unserer Jugendkulturbühne “LAKESIDE” und bei verschiedenen Stadtteilfesten auftreten.\nDienstags von 16.00 – 20.00 Uhr für Jugendliche ab 11 Jahren.
URL:https://hot-billabong.de/event/musikwerkstatt-3/2026-03-24/
LOCATION:HOT Billabong\, Brückenstraße 27\, Bielefeld\, NRW\, 33607\, Deutschland
CATEGORIES:Jugendtag,Musikwerkstatt
ATTACH;FMTTYPE=image/png:https://hot-billabong.de/wp-content/uploads/musikwerkstatt_blau2.png
ORGANIZER;CN="HOT Billabong":MAILTO:billabong@kirche-bielefeld.de
END:VEVENT
BEGIN:VEVENT
DTSTART;TZID=Europe/Berlin:20260324T160000
DTEND;TZID=Europe/Berlin:20260324T203000
DTSTAMP:20260424T222759
CREATED:20260111T174130Z
LAST-MODIFIED:20260111T174130Z
UID:10004478-1774368000-1774384200@hot-billabong.de
SUMMARY:Jugendtag
DESCRIPTION:Du möchtest neue Leute kennenlernen oder mit deinen Freundinnen und Freunden zusammen chillen? Du magst Musik\, spielst gerne eine Runde Billard oder zockst mit Vorliebe auf der Playstation? Dann bist du bei uns genau richtig! In jeder Öffnungszeit gibt’s außerdem immer noch eine coole Aktion. \nJeden Dienstag und Donnerstag für alle 12 bis 18 jährigen von 16.00 bis 20.30 Uhr.
URL:https://hot-billabong.de/event/jugendtag/2026-03-24/
LOCATION:HOT Billabong\, Brückenstraße 27\, Bielefeld\, NRW\, 33607\, Deutschland
CATEGORIES:Jugendtag
ATTACH;FMTTYPE=image/jpeg:https://hot-billabong.de/wp-content/uploads/Movie-Park-010-1.jpg
ORGANIZER;CN="HOT Billabong":MAILTO:billabong@kirche-bielefeld.de
END:VEVENT
BEGIN:VEVENT
DTSTART;TZID=Europe/Berlin:20260324T180000
DTEND;TZID=Europe/Berlin:20260324T200000
DTSTAMP:20260424T222759
CREATED:20260111T180207Z
LAST-MODIFIED:20260111T181720Z
UID:10004590-1774375200-1774382400@hot-billabong.de
SUMMARY:Bandprobe
DESCRIPTION:Neues Bandprojekt für Jugendliche\n\n\n\n\n\n\nDu willst Musik machen – nicht nur für dich\, sondern mit anderen? Dann bist du bei unserem neuen Bandprojekt genau richtig! \nWir proben wir jeden Dienstag von 18 bis 20 Uhr gemeinsam mit einem erfahrenen Bandcoach. Ob Gesang\, Gitarre\, Drums oder Keys – wenn du ein Instrument spielst oder singst\, findest du hier deinen Platz. \nWir unterstützen dich beim Songwriting\, geben dir wertvolles Feedback\, nehmen Demos auf\, drehen Musikvideos und bereiten dich auf echte Bühnenauftritte vor – zum Beispiel bei unserer Jugendkulturbühne LAKESIDE. \nDie Teilnahme ist kostenlos. \nMelde dich gerne per Mail an (billabong@kirche-bielefeld.de) – oder komm einfach dienstags vorbei und schnupper rein. \nUnsere Socials: \nHier geht’s zum LAKESIDE:\n➡️  www.hot-billabong.de/lakeside \nUnsere Musikvideos:\n➡️ YouTube: HOT Billabong \nInstagram:\n➡️ @lakeside_bi\n➡️ @billa607
URL:https://hot-billabong.de/event/bandprobe/2026-03-24/
LOCATION:HOT Billabong\, Brückenstraße 27\, Bielefeld\, NRW\, 33607\, Deutschland
CATEGORIES:Jugendtag,Musik machen
ATTACH;FMTTYPE=image/jpeg:https://hot-billabong.de/wp-content/uploads/Banner-Bandprojekt-1.jpg
ORGANIZER;CN="HOT Billabong":MAILTO:billabong@kirche-bielefeld.de
END:VEVENT
BEGIN:VEVENT
DTSTART;TZID=Europe/Berlin:20260325T160000
DTEND;TZID=Europe/Berlin:20260325T200000
DTSTAMP:20260424T222759
CREATED:20260111T181353Z
LAST-MODIFIED:20260111T183457Z
UID:10004631-1774454400-1774468800@hot-billabong.de
SUMMARY:Spiel & Sport
DESCRIPTION:Jeden Mittwoch steht bei uns Spiel & Sport auf dem Programm. Neben Basketball und Fußball\, gibt’s auch viele neue Trendsportarten zum Ausprobieren. Nebenbei ist natürlich auch Platz für deine Ideen! \nImmer mittwochs von 16 -20 Uhr\, für Jugendliche von 11 – 15 Jahren.
URL:https://hot-billabong.de/event/spiel-sport-2/2026-03-25/
LOCATION:HOT Billabong\, Brückenstraße 27\, Bielefeld\, NRW\, 33607\, Deutschland
CATEGORIES:Jugendtag,Spiel- und Sporttag
ATTACH;FMTTYPE=image/png:https://hot-billabong.de/wp-content/uploads/Bildschirmfoto-2025-02-28-um-13.57.01.png
ORGANIZER;CN="HOT Billabong":MAILTO:billabong@kirche-bielefeld.de
END:VEVENT
BEGIN:VEVENT
DTSTART;TZID=Europe/Berlin:20260326T160000
DTEND;TZID=Europe/Berlin:20260326T203000
DTSTAMP:20260424T222759
CREATED:20260111T174130Z
LAST-MODIFIED:20260111T174130Z
UID:10004479-1774540800-1774557000@hot-billabong.de
SUMMARY:Jugendtag
DESCRIPTION:Du möchtest neue Leute kennenlernen oder mit deinen Freundinnen und Freunden zusammen chillen? Du magst Musik\, spielst gerne eine Runde Billard oder zockst mit Vorliebe auf der Playstation? Dann bist du bei uns genau richtig! In jeder Öffnungszeit gibt’s außerdem immer noch eine coole Aktion. \nJeden Dienstag und Donnerstag für alle 12 bis 18 jährigen von 16.00 bis 20.30 Uhr.
URL:https://hot-billabong.de/event/jugendtag/2026-03-26/
LOCATION:HOT Billabong\, Brückenstraße 27\, Bielefeld\, NRW\, 33607\, Deutschland
CATEGORIES:Jugendtag
ATTACH;FMTTYPE=image/jpeg:https://hot-billabong.de/wp-content/uploads/Movie-Park-010-1.jpg
ORGANIZER;CN="HOT Billabong":MAILTO:billabong@kirche-bielefeld.de
END:VEVENT
BEGIN:VEVENT
DTSTART;TZID=Europe/Berlin:20260327T150000
DTEND;TZID=Europe/Berlin:20260327T180000
DTSTAMP:20260424T222759
CREATED:20260111T182756Z
LAST-MODIFIED:20260111T182756Z
UID:10004672-1774623600-1774634400@hot-billabong.de
SUMMARY:Kunstattacke
DESCRIPTION:Du hast Spaß am Basteln\, Bauen oder Werken? Dann ist die Kunstattacke genau das Richtige für dich. Hier gibt es jede Woche ein neues\, cooles Bastelangebot für dich. Komm vorbei und mach mit!\nJeden Freitag von 15.00 – 18.00 Uhr für Kinder von 6 – 12 Jahren.
URL:https://hot-billabong.de/event/kunstattacke/2026-03-27/
LOCATION:HOT Billabong\, Brückenstraße 27\, Bielefeld\, NRW\, 33607\, Deutschland
CATEGORIES:Kindertag,Kunstattacke
ATTACH;FMTTYPE=image/png:https://hot-billabong.de/wp-content/uploads/kunstattacke2.png
ORGANIZER;CN="HOT Billabong":MAILTO:billabong@kirche-bielefeld.de
END:VEVENT
BEGIN:VEVENT
DTSTART;TZID=Europe/Berlin:20260327T150000
DTEND;TZID=Europe/Berlin:20260327T180000
DTSTAMP:20260424T222759
CREATED:20260220T120009Z
LAST-MODIFIED:20260220T120009Z
UID:10004706-1774623600-1774634400@hot-billabong.de
SUMMARY:Superstar
DESCRIPTION:Am Freitag\, 27. März\, heißt es wieder „Billabong sucht den Superstar“. Unser Gesangswettbewerb startet in eine neue Runde! Du willst dabei sein? Dann komm am Montag\, 23. März\, zwischen 15 und 18 Uhr ins HOT Billabong\, melde dich an und bring dein Auftrittslied direkt mit. Proben? Machen wir gleich vor Ort. \n⚠️ Die Veranstaltung ist nur für Kinder! \nErlaubt sind ausschließlich Songs ohne Schimpfwörter oder Beleidigungen. \nEgal ob solo oder in der Gruppe – Hauptsache\, du bist bereit für deinen großen Auftritt!
URL:https://hot-billabong.de/event/superstar/
LOCATION:HOT Billabong\, Brückenstraße 27\, Bielefeld\, NRW\, 33607\, Deutschland
CATEGORIES:Kindertag
ATTACH;FMTTYPE=image/jpeg:https://hot-billabong.de/wp-content/uploads/Superstar-2026.jpg
ORGANIZER;CN="HOT Billabong":MAILTO:billabong@kirche-bielefeld.de
END:VEVENT
BEGIN:VEVENT
DTSTART;TZID=Europe/Berlin:20260327T150000
DTEND;TZID=Europe/Berlin:20260327T183000
DTSTAMP:20260424T222759
CREATED:20260111T171013Z
LAST-MODIFIED:20260111T182931Z
UID:10004288-1774623600-1774636200@hot-billabong.de
SUMMARY:Kindertag
DESCRIPTION:Bist Du zwischen 6 und 12 Jahre alt? Spielst du gerne Fußball\, Tischtennis\, Billard oder Kicker? Hast du Spaß am Basteln\, Malen\, Werken\, Kochen und vielem mehr? Dann komm doch mal vorbei! \nImmer montags und freitags von 15.00 – 18.30 Uhr.
URL:https://hot-billabong.de/event/kindertag/2026-03-27/
LOCATION:HOT Billabong\, Brückenstraße 27\, Bielefeld\, NRW\, 33607\, Deutschland
CATEGORIES:Kindertag
ATTACH;FMTTYPE=image/jpeg:https://hot-billabong.de/wp-content/uploads/IMG_3036.jpg
ORGANIZER;CN="HOT Billabong":MAILTO:billabong@kirche-bielefeld.de
END:VEVENT
BEGIN:VEVENT
DTSTART;TZID=Europe/Berlin:20260330T150000
DTEND;TZID=Europe/Berlin:20260330T180000
DTSTAMP:20260424T222759
CREATED:20260226T142518Z
LAST-MODIFIED:20260226T142556Z
UID:10004707-1774882800-1774893600@hot-billabong.de
SUMMARY:Kindertag
DESCRIPTION:Bist du zwischen 6 und 12 Jahren?\nSpielst du gerne Fußball\, Tischtennis\, Billard oder Kicker? Hast du Spaß am Basteln\, Malen\, Werken oder Kochen – und willst noch viel mehr entdecken?\nDann schau doch mal bei uns vorbei! 🎨⚽\nIn den Ferien gibt es immer einen spannenden Programmpunkt\, und wir sind von 15 bis 18 Uhr für dich da.
URL:https://hot-billabong.de/event/kindertag-2/2026-03-30/
LOCATION:HOT Billabong\, Brückenstraße 27\, Bielefeld\, NRW\, 33607\, Deutschland
CATEGORIES:Ferienspiele,Kindertag
ATTACH;FMTTYPE=image/jpeg:https://hot-billabong.de/wp-content/uploads/IMG_3036.jpg
ORGANIZER;CN="HOT Billabong":MAILTO:billabong@kirche-bielefeld.de
END:VEVENT
BEGIN:VEVENT
DTSTART;TZID=Europe/Berlin:20260331T160000
DTEND;TZID=Europe/Berlin:20260331T200000
DTSTAMP:20260424T222759
CREATED:20260226T143152Z
LAST-MODIFIED:20260226T143152Z
UID:10004709-1774972800-1774987200@hot-billabong.de
SUMMARY:Jugendtag
DESCRIPTION:Willst du neue Leute kennenlernen oder einfach mit deinen Freund*innen chillen?\nLiebst du Musik\, spielst gerne eine Runde Billard oder zockst auf der PlayStation? Dann bist du bei uns genau richtig! 🎮🎵\nBei jeder Öffnungszeit gibt es außerdem eine coole Aktion\, und in den Osterferien haben wir von 16 bis 20 Uhr für dich geöffnet.\nEs gibt immer auch einen festen Programmpunkt\, also komm gern vorbei – wir freuen uns auf dich! ✌️
URL:https://hot-billabong.de/event/jugendtag-2/2026-03-31/
LOCATION:HOT Billabong\, Brückenstraße 27\, Bielefeld\, NRW\, 33607\, Deutschland
CATEGORIES:Ferienspiele,Jugendtag
ATTACH;FMTTYPE=image/jpeg:https://hot-billabong.de/wp-content/uploads/Movie-Park-010-1.jpg
ORGANIZER;CN="HOT Billabong":MAILTO:billabong@kirche-bielefeld.de
END:VEVENT
END:VCALENDAR